BEGIN:VCALENDAR
VERSION:2.0
PRODID:-//Ma Cuisine Enthousiaste - ECPv6.15.16//NONSGML v1.0//EN
CALSCALE:GREGORIAN
METHOD:PUBLISH
X-WR-CALNAME:Ma Cuisine Enthousiaste
X-ORIGINAL-URL:https://macuisineenthousiaste.com
X-WR-CALDESC:Évènements pour Ma Cuisine Enthousiaste
REFRESH-INTERVAL;VALUE=DURATION:PT1H
X-Robots-Tag:noindex
X-PUBLISHED-TTL:PT1H
BEGIN:VTIMEZONE
TZID:Europe/Paris
BEGIN:DAYLIGHT
TZOFFSETFROM:+0100
TZOFFSETTO:+0200
TZNAME:CEST
DTSTART:20250330T010000
END:DAYLIGHT
BEGIN:STANDARD
TZOFFSETFROM:+0200
TZOFFSETTO:+0100
TZNAME:CET
DTSTART:20251026T010000
END:STANDARD
BEGIN:DAYLIGHT
TZOFFSETFROM:+0100
TZOFFSETTO:+0200
TZNAME:CEST
DTSTART:20260329T010000
END:DAYLIGHT
BEGIN:STANDARD
TZOFFSETFROM:+0200
TZOFFSETTO:+0100
TZNAME:CET
DTSTART:20261025T010000
END:STANDARD
BEGIN:DAYLIGHT
TZOFFSETFROM:+0100
TZOFFSETTO:+0200
TZNAME:CEST
DTSTART:20270328T010000
END:DAYLIGHT
BEGIN:STANDARD
TZOFFSETFROM:+0200
TZOFFSETTO:+0100
TZNAME:CET
DTSTART:20271031T010000
END:STANDARD
END:VTIMEZONE
BEGIN:VEVENT
DTSTART;TZID=Europe/Paris:20260309T183000
DTEND;TZID=Europe/Paris:20260309T213000
DTSTAMP:20260419T143013
CREATED:20251126T143623Z
LAST-MODIFIED:20260213T103920Z
UID:35397-1773081000-1773091800@macuisineenthousiaste.com
SUMMARY:Gnocchi de potimarron
DESCRIPTION:
URL:https://macuisineenthousiaste.com/event/gnocchi-de-potimarron/
END:VEVENT
END:VCALENDAR